BEGIN:VCALENDAR
VERSION:2.0
PRODID:icalendar-ruby
CALSCALE:GREGORIAN
METHOD:PUBLISH
BEGIN:VEVENT
DTSTAMP:20260421T202950Z
UID:76-606688@radiantchurchga.com
DTSTART:20261006T224500Z
DTEND:20261006T234500Z
CLASS:PUBLIC
CREATED:20260421T151712
DESCRIPTION:High School Boys' small group and Bible study meets every Wedne
 sday night.
LAST-MODIFIED:20260421T151712
LOCATION:Radiant Church
SUMMARY:High School Boys
URL;VALUE=URI:https://radiantchurchga.com/events/high-school-boys/2026-10-0
 6
ATTACH;FILENAME=P1019604.jpg;FMTTYPE=image/jpeg:https://dq5pwpg1q8ru0.cloud
 front.net/2025/04/17/01/19/52/fb6086d5-539d-4e62-aaf3-11a9f9895df7/P101960
 4.jpg
END:VEVENT
END:VCALENDAR
